BEGIN:VCALENDAR
VERSION:2.0
PRODID:-//SC Käfertal - ECPv6.15.20//NONSGML v1.0//EN
CALSCALE:GREGORIAN
METHOD:PUBLISH
X-ORIGINAL-URL:https://sckaefertal.de
X-WR-CALDESC:Veranstaltungen für SC Käfertal
REFRESH-INTERVAL;VALUE=DURATION:PT1H
X-Robots-Tag:noindex
X-PUBLISHED-TTL:PT1H
BEGIN:VTIMEZONE
TZID:Europe/Berlin
BEGIN:DAYLIGHT
TZOFFSETFROM:+0100
TZOFFSETTO:+0200
TZNAME:CEST
DTSTART:20220327T010000
END:DAYLIGHT
BEGIN:STANDARD
TZOFFSETFROM:+0200
TZOFFSETTO:+0100
TZNAME:CET
DTSTART:20221030T010000
END:STANDARD
BEGIN:DAYLIGHT
TZOFFSETFROM:+0100
TZOFFSETTO:+0200
TZNAME:CEST
DTSTART:20230326T010000
END:DAYLIGHT
BEGIN:STANDARD
TZOFFSETFROM:+0200
TZOFFSETTO:+0100
TZNAME:CET
DTSTART:20231029T010000
END:STANDARD
BEGIN:DAYLIGHT
TZOFFSETFROM:+0100
TZOFFSETTO:+0200
TZNAME:CEST
DTSTART:20240331T010000
END:DAYLIGHT
BEGIN:STANDARD
TZOFFSETFROM:+0200
TZOFFSETTO:+0100
TZNAME:CET
DTSTART:20241027T010000
END:STANDARD
END:VTIMEZONE
BEGIN:VEVENT
DTSTART;TZID=Europe/Berlin:20231205T190000
DTEND;TZID=Europe/Berlin:20231205T203000
DTSTAMP:20260423T175401
CREATED:20231110T162920Z
LAST-MODIFIED:20231110T162920Z
UID:2157-1701802800-1701808200@sckaefertal.de
SUMMARY:Fussball - Training 1. Mannschaft
DESCRIPTION:
URL:https://sckaefertal.de/event/fussball-training-1-mannschaft-30/
LOCATION:Rasenplatz SC Käfertal\, Obere Riedstraße 88\, Mannheim\, 68309\, Deutschland
CATEGORIES:Training
END:VEVENT
BEGIN:VEVENT
DTSTART;TZID=Europe/Berlin:20231205T190000
DTEND;TZID=Europe/Berlin:20231205T203000
DTSTAMP:20260423T175401
CREATED:20231110T163035Z
LAST-MODIFIED:20231110T163035Z
UID:2180-1701802800-1701808200@sckaefertal.de
SUMMARY:Fussball - Training 2. Mannschaft
DESCRIPTION:
URL:https://sckaefertal.de/event/fussball-training-2-mannschaft-29/
LOCATION:Kunstrasenplatz SC Käfertal\, Obere Riedstraße 88\, Mannheim\, 68309\, Deutschland
CATEGORIES:Training
END:VEVENT
BEGIN:VEVENT
DTSTART;TZID=Europe/Berlin:20231207T190000
DTEND;TZID=Europe/Berlin:20231207T203000
DTSTAMP:20260423T175401
CREATED:20231110T163005Z
LAST-MODIFIED:20231110T163005Z
UID:2169-1701975600-1701981000@sckaefertal.de
SUMMARY:Fussball - Training 1. Mannschaft
DESCRIPTION:
URL:https://sckaefertal.de/event/fussball-training-1-mannschaft-42/
LOCATION:Rasenplatz SC Käfertal\, Obere Riedstraße 88\, Mannheim\, 68309\, Deutschland
CATEGORIES:Training
END:VEVENT
BEGIN:VEVENT
DTSTART;TZID=Europe/Berlin:20231207T190000
DTEND;TZID=Europe/Berlin:20231207T203000
DTSTAMP:20260423T175401
CREATED:20231110T163250Z
LAST-MODIFIED:20231110T163250Z
UID:2192-1701975600-1701981000@sckaefertal.de
SUMMARY:Fussball - Training 2. Mannschaft
DESCRIPTION:
URL:https://sckaefertal.de/event/fussball-training-2-mannschaft-41/
LOCATION:Kunstrasenplatz SC Käfertal\, Obere Riedstraße 88\, Mannheim\, 68309\, Deutschland
CATEGORIES:Training
END:VEVENT
BEGIN:VEVENT
DTSTART;TZID=Europe/Berlin:20231212T190000
DTEND;TZID=Europe/Berlin:20231212T203000
DTSTAMP:20260423T175401
CREATED:20231110T162934Z
LAST-MODIFIED:20231110T162934Z
UID:2158-1702407600-1702413000@sckaefertal.de
SUMMARY:Fussball - Training 1. Mannschaft
DESCRIPTION:
URL:https://sckaefertal.de/event/fussball-training-1-mannschaft-31/
LOCATION:Rasenplatz SC Käfertal\, Obere Riedstraße 88\, Mannheim\, 68309\, Deutschland
CATEGORIES:Training
END:VEVENT
END:VCALENDAR