BEGIN:VCALENDAR
VERSION:2.0
PRODID:-//SC Käfertal - ECPv6.15.20//NONSGML v1.0//EN
CALSCALE:GREGORIAN
METHOD:PUBLISH
X-ORIGINAL-URL:https://sckaefertal.de
X-WR-CALDESC:Veranstaltungen für SC Käfertal
REFRESH-INTERVAL;VALUE=DURATION:PT1H
X-Robots-Tag:noindex
X-PUBLISHED-TTL:PT1H
BEGIN:VTIMEZONE
TZID:Europe/Berlin
BEGIN:DAYLIGHT
TZOFFSETFROM:+0100
TZOFFSETTO:+0200
TZNAME:CEST
DTSTART:20240331T010000
END:DAYLIGHT
BEGIN:STANDARD
TZOFFSETFROM:+0200
TZOFFSETTO:+0100
TZNAME:CET
DTSTART:20241027T010000
END:STANDARD
BEGIN:DAYLIGHT
TZOFFSETFROM:+0100
TZOFFSETTO:+0200
TZNAME:CEST
DTSTART:20250330T010000
END:DAYLIGHT
BEGIN:STANDARD
TZOFFSETFROM:+0200
TZOFFSETTO:+0100
TZNAME:CET
DTSTART:20251026T010000
END:STANDARD
BEGIN:DAYLIGHT
TZOFFSETFROM:+0100
TZOFFSETTO:+0200
TZNAME:CEST
DTSTART:20260329T010000
END:DAYLIGHT
BEGIN:STANDARD
TZOFFSETFROM:+0200
TZOFFSETTO:+0100
TZNAME:CET
DTSTART:20261025T010000
END:STANDARD
END:VTIMEZONE
BEGIN:VEVENT
DTSTART;TZID=Europe/Berlin:20251206T090000
DTEND;TZID=Europe/Berlin:20251206T123000
DTSTAMP:20260423T142149
CREATED:20251030T171726Z
LAST-MODIFIED:20251030T171727Z
UID:13287-1765011600-1765024200@sckaefertal.de
SUMMARY:Helfertag Dezember 2025
DESCRIPTION:
URL:https://sckaefertal.de/event/helfertag-dezember-2025/
LOCATION:Sportgelände SC Käfertal\, Obere Riedstraße 90\, Mannheim
END:VEVENT
BEGIN:VEVENT
DTSTART;TZID=Europe/Berlin:20251207T113000
DTEND;TZID=Europe/Berlin:20251207T133000
DTSTAMP:20260423T142149
CREATED:20251009T052721Z
LAST-MODIFIED:20251009T052721Z
UID:13268-1765107000-1765114200@sckaefertal.de
SUMMARY:SC 1910 Käfertal 2 vs TSV Amicitia Viernheim 2
DESCRIPTION:Match Link
URL:https://sckaefertal.de/event/sc-1910-kaefertal-2-vs-tsv-amicitia-viernheim-2/
LOCATION:SC Käfertal KR (Kunstrasenplatz)\, Obere Riedstr. 88\, Mannheim\, 68309\, Deutschland
END:VEVENT
BEGIN:VEVENT
DTSTART;TZID=Europe/Berlin:20251207T140000
DTEND;TZID=Europe/Berlin:20251207T160000
DTSTAMP:20260423T142149
CREATED:20251009T052529Z
LAST-MODIFIED:20251009T052529Z
UID:13228-1765116000-1765123200@sckaefertal.de
SUMMARY:SC 1910 Käfertal vs TSG Eintracht Plankstadt
DESCRIPTION:Match Link
URL:https://sckaefertal.de/event/sc-1910-kaefertal-vs-tsg-eintracht-plankstadt-3/
LOCATION:SC Käfertal KR (Kunstrasenplatz)\, Obere Riedstr. 88\, Mannheim\, 68309\, Deutschland
END:VEVENT
BEGIN:VEVENT
DTSTART;TZID=Europe/Berlin:20251213T191000
DTEND;TZID=Europe/Berlin:20251213T233000
DTSTAMP:20260423T142149
CREATED:20251124T112626Z
LAST-MODIFIED:20251212T202503Z
UID:13316-1765653000-1765668600@sckaefertal.de
SUMMARY:Weihnachtsfeier der Fußball-AH
DESCRIPTION:
URL:https://sckaefertal.de/event/weihnachtsfeier-der-fussball-ah/
LOCATION:Clubhaus SC Käfertal\, Obere Riedstraße 90\, Mannheim\, 68309
END:VEVENT
END:VCALENDAR