BEGIN:VCALENDAR
VERSION:2.0
PRODID:-//SC Käfertal - ECPv6.15.20//NONSGML v1.0//EN
CALSCALE:GREGORIAN
METHOD:PUBLISH
X-ORIGINAL-URL:https://sckaefertal.de
X-WR-CALDESC:Veranstaltungen für SC Käfertal
REFRESH-INTERVAL;VALUE=DURATION:PT1H
X-Robots-Tag:noindex
X-PUBLISHED-TTL:PT1H
BEGIN:VTIMEZONE
TZID:Europe/Berlin
BEGIN:DAYLIGHT
TZOFFSETFROM:+0100
TZOFFSETTO:+0200
TZNAME:CEST
DTSTART:20240331T010000
END:DAYLIGHT
BEGIN:STANDARD
TZOFFSETFROM:+0200
TZOFFSETTO:+0100
TZNAME:CET
DTSTART:20241027T010000
END:STANDARD
BEGIN:DAYLIGHT
TZOFFSETFROM:+0100
TZOFFSETTO:+0200
TZNAME:CEST
DTSTART:20250330T010000
END:DAYLIGHT
BEGIN:STANDARD
TZOFFSETFROM:+0200
TZOFFSETTO:+0100
TZNAME:CET
DTSTART:20251026T010000
END:STANDARD
BEGIN:DAYLIGHT
TZOFFSETFROM:+0100
TZOFFSETTO:+0200
TZNAME:CEST
DTSTART:20260329T010000
END:DAYLIGHT
BEGIN:STANDARD
TZOFFSETFROM:+0200
TZOFFSETTO:+0100
TZNAME:CET
DTSTART:20261025T010000
END:STANDARD
BEGIN:DAYLIGHT
TZOFFSETFROM:+0100
TZOFFSETTO:+0200
TZNAME:CEST
DTSTART:20270328T010000
END:DAYLIGHT
BEGIN:STANDARD
TZOFFSETFROM:+0200
TZOFFSETTO:+0100
TZNAME:CET
DTSTART:20271031T010000
END:STANDARD
END:VTIMEZONE
BEGIN:VEVENT
DTSTART;TZID=Europe/Berlin:20251102T143000
DTEND;TZID=Europe/Berlin:20251102T163000
DTSTAMP:20260421T154403
CREATED:20251009T052526Z
LAST-MODIFIED:20251009T052526Z
UID:13221-1762093800-1762101000@sckaefertal.de
SUMMARY:MFC 08 Lindenhof vs SC 1910 Käfertal
DESCRIPTION:Match Link
URL:https://sckaefertal.de/event/mfc-08-lindenhof-vs-sc-1910-kaefertal-2/
LOCATION:MFC 08 Lindenhof KR 2 (Kunstrasenplatz)\, Promenadenweg 15\, Mannheim\, 68199\, Deutschland
END:VEVENT
BEGIN:VEVENT
DTSTART;TZID=Europe/Berlin:20251102T143000
DTEND;TZID=Europe/Berlin:20251102T163000
DTSTAMP:20260421T154403
CREATED:20251009T052719Z
LAST-MODIFIED:20251009T052719Z
UID:13263-1762093800-1762101000@sckaefertal.de
SUMMARY:SKV Sandhofen vs SC 1910 Käfertal 2
DESCRIPTION:Match Link
URL:https://sckaefertal.de/event/skv-sandhofen-vs-sc-1910-kaefertal-2-2/
LOCATION:SKV Sandhofen NR (Rasenplatz)\, Gaswerkstr. 25\, Mannheim\, 68307\, Deutschland
END:VEVENT
BEGIN:VEVENT
DTSTART;TZID=Europe/Berlin:20251109T120000
DTEND;TZID=Europe/Berlin:20251109T140000
DTSTAMP:20260421T154403
CREATED:20251009T052719Z
LAST-MODIFIED:20251009T052719Z
UID:13264-1762689600-1762696800@sckaefertal.de
SUMMARY:SC 1910 Käfertal 2 vs SV Schriesheim
DESCRIPTION:Match Link
URL:https://sckaefertal.de/event/sc-1910-kaefertal-2-vs-sv-schriesheim-2/
LOCATION:SC Käfertal KR (Kunstrasenplatz)\, Obere Riedstr. 88\, Mannheim\, 68309\, Deutschland
END:VEVENT
BEGIN:VEVENT
DTSTART;TZID=Europe/Berlin:20251109T143000
DTEND;TZID=Europe/Berlin:20251109T163000
DTSTAMP:20260421T154403
CREATED:20251009T052527Z
LAST-MODIFIED:20251009T052527Z
UID:13223-1762698600-1762705800@sckaefertal.de
SUMMARY:SC 1910 Käfertal vs VfL Kurpfalz Neckarau
DESCRIPTION:Match Link
URL:https://sckaefertal.de/event/sc-1910-kaefertal-vs-vfl-kurpfalz-neckarau-2/
LOCATION:SC Käfertal KR (Kunstrasenplatz)\, Obere Riedstr. 88\, Mannheim\, 68309\, Deutschland
END:VEVENT
BEGIN:VEVENT
DTSTART;TZID=Europe/Berlin:20251116T143000
DTEND;TZID=Europe/Berlin:20251116T163000
DTSTAMP:20260421T154403
CREATED:20251009T052527Z
LAST-MODIFIED:20251009T052527Z
UID:13225-1763303400-1763310600@sckaefertal.de
SUMMARY:FV 03 Ladenburg vs SC 1910 Käfertal
DESCRIPTION:Match Link
URL:https://sckaefertal.de/event/fv-03-ladenburg-vs-sc-1910-kaefertal-2/
LOCATION:Römerstadion Ladenburg KR (Kunstrasenplatz)\, Neckarstr.\, Ladenburg\, 68526\, Deutschland
END:VEVENT
BEGIN:VEVENT
DTSTART;TZID=Europe/Berlin:20251116T143000
DTEND;TZID=Europe/Berlin:20251116T163000
DTSTAMP:20260421T154403
CREATED:20251009T052720Z
LAST-MODIFIED:20251009T052720Z
UID:13265-1763303400-1763310600@sckaefertal.de
SUMMARY:TSG 1862/​09 Weinheim 2 vs SC 1910 Käfertal 2
DESCRIPTION:Match Link
URL:https://sckaefertal.de/event/tsg-1862-09-weinheim-2-vs-sc-1910-kaefertal-2-2/
LOCATION:Sepp-Herberger-Stadion (Kunstrasen) (Kunstrasenplatz)\, Waidallee 2/1\, Weinheim\, 69469\, Deutschland
END:VEVENT
BEGIN:VEVENT
DTSTART;TZID=Europe/Berlin:20251123T130000
DTEND;TZID=Europe/Berlin:20251123T150000
DTSTAMP:20260421T154403
CREATED:20251009T052528Z
LAST-MODIFIED:20251009T052528Z
UID:13226-1763902800-1763910000@sckaefertal.de
SUMMARY:FV 1918 Brühl 2 vs SC 1910 Käfertal
DESCRIPTION:Match Link
URL:https://sckaefertal.de/event/fv-1918-bruehl-2-vs-sc-1910-kaefertal-2/
LOCATION:Kunstrasenplatz Sportpark (Kunstrasenplatz)\, Wiesenplätz\, Brühl\, 68782\, Deutschland
END:VEVENT
BEGIN:VEVENT
DTSTART;TZID=Europe/Berlin:20260301T153000
DTEND;TZID=Europe/Berlin:20260301T170000
DTSTAMP:20260421T154403
CREATED:20251009T052720Z
LAST-MODIFIED:20260213T121852Z
UID:13266-1772379000-1772384400@sckaefertal.de
SUMMARY:TSV 1887 Sulzbach vs SC 1910 Käfertal 2
DESCRIPTION:Match Link
URL:https://sckaefertal.de/event/tsv-1887-sulzbach-vs-sc-1910-kaefertal-2-2/
LOCATION:TSV Sulzbach KR (Kunstrasenplatz)\, Erlenwiesen 1\, Weinheim\, 69469\, Deutschland
END:VEVENT
BEGIN:VEVENT
DTSTART;TZID=Europe/Berlin:20251128T190000
DTEND;TZID=Europe/Berlin:20251128T210000
DTSTAMP:20260421T154403
CREATED:20251124T112529Z
LAST-MODIFIED:20251124T112531Z
UID:13314-1764356400-1764363600@sckaefertal.de
SUMMARY:Abteilungsversammlung Boule
DESCRIPTION:
URL:https://sckaefertal.de/event/abteilungsversammlung-boule/
LOCATION:Sportgelände SC Käfertal\, Obere Riedstraße 90\, Mannheim
END:VEVENT
BEGIN:VEVENT
DTSTART;TZID=Europe/Berlin:20251130T113000
DTEND;TZID=Europe/Berlin:20251130T133000
DTSTAMP:20260421T154403
CREATED:20251009T052721Z
LAST-MODIFIED:20251009T052721Z
UID:13267-1764502200-1764509400@sckaefertal.de
SUMMARY:SC 1910 Käfertal 2 vs SG 1983 Viernheim
DESCRIPTION:Match Link
URL:https://sckaefertal.de/event/sc-1910-kaefertal-2-vs-sg-1983-viernheim-2/
LOCATION:SC Käfertal KR (Kunstrasenplatz)\, Obere Riedstr. 88\, Mannheim\, 68309\, Deutschland
END:VEVENT
BEGIN:VEVENT
DTSTART;TZID=Europe/Berlin:20251130T140000
DTEND;TZID=Europe/Berlin:20251130T160000
DTSTAMP:20260421T154403
CREATED:20251009T052528Z
LAST-MODIFIED:20251009T052528Z
UID:13227-1764511200-1764518400@sckaefertal.de
SUMMARY:SC 1910 Käfertal vs SC Pfingstberg-Hochstätt
DESCRIPTION:Match Link
URL:https://sckaefertal.de/event/sc-1910-kaefertal-vs-sc-pfingstberg-hochstaett-2/
LOCATION:SC Käfertal KR (Kunstrasenplatz)\, Obere Riedstr. 88\, Mannheim\, 68309\, Deutschland
END:VEVENT
END:VCALENDAR