BEGIN:VCALENDAR
VERSION:2.0
PRODID:-//SC Käfertal - ECPv6.15.20//NONSGML v1.0//EN
CALSCALE:GREGORIAN
METHOD:PUBLISH
X-ORIGINAL-URL:https://sckaefertal.de
X-WR-CALDESC:Veranstaltungen für SC Käfertal
REFRESH-INTERVAL;VALUE=DURATION:PT1H
X-Robots-Tag:noindex
X-PUBLISHED-TTL:PT1H
BEGIN:VTIMEZONE
TZID:Europe/Berlin
BEGIN:DAYLIGHT
TZOFFSETFROM:+0100
TZOFFSETTO:+0200
TZNAME:CEST
DTSTART:20240331T010000
END:DAYLIGHT
BEGIN:STANDARD
TZOFFSETFROM:+0200
TZOFFSETTO:+0100
TZNAME:CET
DTSTART:20241027T010000
END:STANDARD
BEGIN:DAYLIGHT
TZOFFSETFROM:+0100
TZOFFSETTO:+0200
TZNAME:CEST
DTSTART:20250330T010000
END:DAYLIGHT
BEGIN:STANDARD
TZOFFSETFROM:+0200
TZOFFSETTO:+0100
TZNAME:CET
DTSTART:20251026T010000
END:STANDARD
BEGIN:DAYLIGHT
TZOFFSETFROM:+0100
TZOFFSETTO:+0200
TZNAME:CEST
DTSTART:20260329T010000
END:DAYLIGHT
BEGIN:STANDARD
TZOFFSETFROM:+0200
TZOFFSETTO:+0100
TZNAME:CET
DTSTART:20261025T010000
END:STANDARD
END:VTIMEZONE
BEGIN:VEVENT
DTSTART;TZID=Europe/Berlin:20251005T150000
DTEND;TZID=Europe/Berlin:20251005T170000
DTSTAMP:20260421T135954
CREATED:20251009T052524Z
LAST-MODIFIED:20251009T052524Z
UID:13215-1759676400-1759683600@sckaefertal.de
SUMMARY:ASV Feudenheim vs SC 1910 Käfertal
DESCRIPTION:Match Link
URL:https://sckaefertal.de/event/asv-feudenheim-vs-sc-1910-kaefertal-2/
LOCATION:ASV Feudenheim NR Stadion (Rasenplatz)\, Lauffener Str. 27\, Mannheim\, 68259\, Deutschland
END:VEVENT
BEGIN:VEVENT
DTSTART;TZID=Europe/Berlin:20251005T150000
DTEND;TZID=Europe/Berlin:20251005T170000
DTSTAMP:20260421T135954
CREATED:20251009T052716Z
LAST-MODIFIED:20251009T052716Z
UID:13258-1759676400-1759683600@sckaefertal.de
SUMMARY:SC Blumenau vs SC 1910 Käfertal 2
DESCRIPTION:Match Link
URL:https://sckaefertal.de/event/sc-blumenau-vs-sc-1910-kaefertal-2-2/
LOCATION:SC Blumenau (Kunstrasenplatz)\, Viernheimer Weg 227\, Mannheim\, 68307\, Deutschland
END:VEVENT
BEGIN:VEVENT
DTSTART;TZID=Europe/Berlin:20251012T123000
DTEND;TZID=Europe/Berlin:20251012T143000
DTSTAMP:20260421T135954
CREATED:20251009T052717Z
LAST-MODIFIED:20251009T052717Z
UID:13259-1760272200-1760279400@sckaefertal.de
SUMMARY:SC 1910 Käfertal 2 vs SG Hemsbach
DESCRIPTION:Match Link
URL:https://sckaefertal.de/event/sc-1910-kaefertal-2-vs-sg-hemsbach-2/
LOCATION:SC Käfertal KR (Kunstrasenplatz)\, Obere Riedstr. 88\, Mannheim\, 68309\, Deutschland
END:VEVENT
BEGIN:VEVENT
DTSTART;TZID=Europe/Berlin:20251012T150000
DTEND;TZID=Europe/Berlin:20251012T170000
DTSTAMP:20260421T135954
CREATED:20251009T052525Z
LAST-MODIFIED:20251009T052525Z
UID:13217-1760281200-1760288400@sckaefertal.de
SUMMARY:SC 1910 Käfertal vs SG Oftersheim
DESCRIPTION:Match Link
URL:https://sckaefertal.de/event/sc-1910-kaefertal-vs-sg-oftersheim-2/
LOCATION:SC Käfertal KR (Kunstrasenplatz)\, Obere Riedstr. 88\, Mannheim\, 68309\, Deutschland
END:VEVENT
BEGIN:VEVENT
DTSTART;TZID=Europe/Berlin:20251019T150000
DTEND;TZID=Europe/Berlin:20251019T170000
DTSTAMP:20260421T135954
CREATED:20251009T052525Z
LAST-MODIFIED:20251009T052525Z
UID:13218-1760886000-1760893200@sckaefertal.de
SUMMARY:TSG Rheinau vs SC 1910 Käfertal
DESCRIPTION:Match Link
URL:https://sckaefertal.de/event/tsg-rheinau-vs-sc-1910-kaefertal/
LOCATION:TSG Rheinau (Kunstrasenplatz)\, Distelsand 11\, Mannheim\, 68219\, Deutschland
END:VEVENT
BEGIN:VEVENT
DTSTART;TZID=Europe/Berlin:20251019T150000
DTEND;TZID=Europe/Berlin:20251019T170000
DTSTAMP:20260421T135954
CREATED:20251009T052718Z
LAST-MODIFIED:20251009T052718Z
UID:13261-1760886000-1760893200@sckaefertal.de
SUMMARY:TSV Schönau vs SC 1910 Käfertal 2
DESCRIPTION:Match Link
URL:https://sckaefertal.de/event/tsv-schoenau-vs-sc-1910-kaefertal-2/
LOCATION:TSV Schönau NR (Rasenplatz)\, Rudolf-Maus-Str. 14\, Mannheim\, 68307\, Deutschland
END:VEVENT
BEGIN:VEVENT
DTSTART;TZID=Europe/Berlin:20251023T191000
DTEND;TZID=Europe/Berlin:20251023T210000
DTSTAMP:20260421T135954
CREATED:20251009T051920Z
LAST-MODIFIED:20251009T052413Z
UID:13195-1761246600-1761253200@sckaefertal.de
SUMMARY:Verwaltungsratssitzung
DESCRIPTION:
URL:https://sckaefertal.de/event/verwaltungsratssitzung-3/
LOCATION:Clubhaus SC Käfertal\, Obere Riedstraße 90\, Mannheim\, 68309
END:VEVENT
BEGIN:VEVENT
DTSTART;TZID=Europe/Berlin:20251026T120000
DTEND;TZID=Europe/Berlin:20251026T140000
DTSTAMP:20260421T135954
CREATED:20251009T052718Z
LAST-MODIFIED:20251009T052718Z
UID:13262-1761480000-1761487200@sckaefertal.de
SUMMARY:SC 1910 Käfertal 2 vs TSG 91/​09 Lützelsachsen 2
DESCRIPTION:Match Link
URL:https://sckaefertal.de/event/sc-1910-kaefertal-2-vs-tsg-91-09-luetzelsachsen-2-2/
LOCATION:SC Käfertal KR (Kunstrasenplatz)\, Obere Riedstr. 88\, Mannheim\, 68309\, Deutschland
END:VEVENT
BEGIN:VEVENT
DTSTART;TZID=Europe/Berlin:20251026T143000
DTEND;TZID=Europe/Berlin:20251026T163000
DTSTAMP:20260421T135954
CREATED:20251009T052526Z
LAST-MODIFIED:20251009T052526Z
UID:13219-1761489000-1761496200@sckaefertal.de
SUMMARY:SC 1910 Käfertal vs TSG 91/​09 Lützelsachsen
DESCRIPTION:Match Link
URL:https://sckaefertal.de/event/sc-1910-kaefertal-vs-tsg-91-09-luetzelsachsen-2/
LOCATION:SC Käfertal KR (Kunstrasenplatz)\, Obere Riedstr. 88\, Mannheim\, 68309\, Deutschland
END:VEVENT
END:VCALENDAR