BEGIN:VCALENDAR
VERSION:2.0
PRODID:-//SC Käfertal - ECPv6.15.20//NONSGML v1.0//EN
CALSCALE:GREGORIAN
METHOD:PUBLISH
X-WR-CALNAME:SC Käfertal
X-ORIGINAL-URL:https://sckaefertal.de
X-WR-CALDESC:Veranstaltungen für SC Käfertal
REFRESH-INTERVAL;VALUE=DURATION:PT1H
X-Robots-Tag:noindex
X-PUBLISHED-TTL:PT1H
BEGIN:VTIMEZONE
TZID:Europe/Berlin
BEGIN:DAYLIGHT
TZOFFSETFROM:+0100
TZOFFSETTO:+0200
TZNAME:CEST
DTSTART:20240331T010000
END:DAYLIGHT
BEGIN:STANDARD
TZOFFSETFROM:+0200
TZOFFSETTO:+0100
TZNAME:CET
DTSTART:20241027T010000
END:STANDARD
BEGIN:DAYLIGHT
TZOFFSETFROM:+0100
TZOFFSETTO:+0200
TZNAME:CEST
DTSTART:20250330T010000
END:DAYLIGHT
BEGIN:STANDARD
TZOFFSETFROM:+0200
TZOFFSETTO:+0100
TZNAME:CET
DTSTART:20251026T010000
END:STANDARD
BEGIN:DAYLIGHT
TZOFFSETFROM:+0100
TZOFFSETTO:+0200
TZNAME:CEST
DTSTART:20260329T010000
END:DAYLIGHT
BEGIN:STANDARD
TZOFFSETFROM:+0200
TZOFFSETTO:+0100
TZNAME:CET
DTSTART:20261025T010000
END:STANDARD
END:VTIMEZONE
BEGIN:VEVENT
DTSTART;TZID=Europe/Berlin:20250907T123000
DTEND;TZID=Europe/Berlin:20250907T143000
DTSTAMP:20260421T121351
CREATED:20251009T052714Z
LAST-MODIFIED:20251009T052714Z
UID:13253-1757248200-1757255400@sckaefertal.de
SUMMARY:VfB Gartenstadt 2 vs SC 1910 Käfertal 2
DESCRIPTION:Match Link
URL:https://sckaefertal.de/event/vfb-gartenstadt-2-vs-sc-1910-kaefertal-2/
LOCATION:VfB Gartenstadt KR (Kunstrasenplatz)\, Anemonenweg 20-40\, Mannheim\, 68305\, Deutschland
END:VEVENT
BEGIN:VEVENT
DTSTART;TZID=Europe/Berlin:20250907T150000
DTEND;TZID=Europe/Berlin:20250907T170000
DTSTAMP:20260421T121351
CREATED:20251009T052522Z
LAST-MODIFIED:20251009T052522Z
UID:13209-1757257200-1757264400@sckaefertal.de
SUMMARY:SC Olympia Neulußheim vs SC 1910 Käfertal
DESCRIPTION:Match Link
URL:https://sckaefertal.de/event/sc-olympia-neulussheim-vs-sc-1910-kaefertal/
LOCATION:Olympia Neulußheim NR (Rasenplatz)\, Waghäuseler Str. 78\, Neulußheim\, 68809\, Deutschland
END:VEVENT
BEGIN:VEVENT
DTSTART;TZID=Europe/Berlin:20250909T184500
DTEND;TZID=Europe/Berlin:20250909T193000
DTSTAMP:20260421T121351
CREATED:20250908T180121Z
LAST-MODIFIED:20250908T180122Z
UID:13187-1757443500-1757446200@sckaefertal.de
SUMMARY:Fußballabteilungsversammlung
DESCRIPTION:Tagesordnung: \n\n\n\n Verschiedenes \n\n\n\n Begrüßung durch den 1. Vorstand Oliver Haas \n\n\n\n Berichte der einzelnen Abteilungssparten \n\n\n\nAktivenabteilung \n\n\n\nJugendabteilung \n\n\n\nAH-Abteilung \n\n\n\nFreizeitmannschaft \n\n\n\n Wahl des Wahlvorsitzenden \n\n\n\n Wahl des Fußballabteilungsvorstandes \n\n\n\n Wahl des Jugendleiters
URL:https://sckaefertal.de/event/fussballabteilungsversammlung/
LOCATION:Clubhaus SC Käfertal\, Obere Riedstraße 90\, Mannheim\, 68309
END:VEVENT
BEGIN:VEVENT
DTSTART;TZID=Europe/Berlin:20250910T193000
DTEND;TZID=Europe/Berlin:20250910T213000
DTSTAMP:20260421T121351
CREATED:20251009T052522Z
LAST-MODIFIED:20251009T052522Z
UID:13210-1757532600-1757539800@sckaefertal.de
SUMMARY:TSG Eintracht Plankstadt vs SC 1910 Käfertal
DESCRIPTION:Match Link
URL:https://sckaefertal.de/event/tsg-eintracht-plankstadt-vs-sc-1910-kaefertal-2/
LOCATION:TSG Eintracht Plankstadt NR (Rasenplatz)\, Jahnstr. 2\, Plankstadt\, 68723\, Deutschland
END:VEVENT
BEGIN:VEVENT
DTSTART;TZID=Europe/Berlin:20250910T193000
DTEND;TZID=Europe/Berlin:20250910T213000
DTSTAMP:20260421T121351
CREATED:20251009T052714Z
LAST-MODIFIED:20251009T052714Z
UID:13254-1757532600-1757539800@sckaefertal.de
SUMMARY:TSV Amicitia Viernheim 2 vs SC 1910 Käfertal 2
DESCRIPTION:Match Link
URL:https://sckaefertal.de/event/tsv-amicitia-viernheim-2-vs-sc-1910-kaefertal-2/
LOCATION:Waldstadion Hauptfeld (Rasenplatz)\, Industriestr. 32\, Viernheim\, 68519\, Deutschland
END:VEVENT
BEGIN:VEVENT
DTSTART;TZID=Europe/Berlin:20250914T123000
DTEND;TZID=Europe/Berlin:20250914T143000
DTSTAMP:20260421T121351
CREATED:20251009T052715Z
LAST-MODIFIED:20251009T052715Z
UID:13255-1757853000-1757860200@sckaefertal.de
SUMMARY:SC 1910 Käfertal 2 vs SV Sandhofen
DESCRIPTION:Match Link
URL:https://sckaefertal.de/event/sc-1910-kaefertal-2-vs-sv-sandhofen/
LOCATION:SC Käfertal KR (Kunstrasenplatz)\, Obere Riedstr. 88\, Mannheim\, 68309\, Deutschland
END:VEVENT
BEGIN:VEVENT
DTSTART;TZID=Europe/Berlin:20250914T150000
DTEND;TZID=Europe/Berlin:20250914T170000
DTSTAMP:20260421T121351
CREATED:20251009T052523Z
LAST-MODIFIED:20251009T052523Z
UID:13211-1757862000-1757869200@sckaefertal.de
SUMMARY:SC 1910 Käfertal vs SV Enosis Mannheim
DESCRIPTION:Match Link
URL:https://sckaefertal.de/event/sc-1910-kaefertal-vs-sv-enosis-mannheim-2/
LOCATION:SC Käfertal KR (Kunstrasenplatz)\, Obere Riedstr. 88\, Mannheim\, 68309\, Deutschland
END:VEVENT
BEGIN:VEVENT
DTSTART;TZID=Europe/Berlin:20250921T150000
DTEND;TZID=Europe/Berlin:20250921T170000
DTSTAMP:20260421T121351
CREATED:20251009T052523Z
LAST-MODIFIED:20251009T052523Z
UID:13212-1758466800-1758474000@sckaefertal.de
SUMMARY:FV Fortuna Heddesheim 2 vs SC 1910 Käfertal
DESCRIPTION:Match Link
URL:https://sckaefertal.de/event/fv-fortuna-heddesheim-2-vs-sc-1910-kaefertal/
LOCATION:Fortuna Heddesheim KR (Kunstrasenplatz)\, Ahornstr. 78\, Heddesheim\, 68542\, Deutschland
END:VEVENT
BEGIN:VEVENT
DTSTART;TZID=Europe/Berlin:20250921T160000
DTEND;TZID=Europe/Berlin:20250921T180000
DTSTAMP:20260421T121351
CREATED:20251009T052715Z
LAST-MODIFIED:20251009T052715Z
UID:13256-1758470400-1758477600@sckaefertal.de
SUMMARY:Mannheimer Fußball Club Phönix vs SC 1910 Käfertal 2
DESCRIPTION:Match Link
URL:https://sckaefertal.de/event/mannheimer-fussball-club-phoenix-vs-sc-1910-kaefertal-2-2/
LOCATION:Phönix Mannheim NR (Rasenplatz)\, Zum Herrenried 10\, Mannheim\, 68169\, Deutschland
END:VEVENT
BEGIN:VEVENT
DTSTART;TZID=Europe/Berlin:20250927T090000
DTEND;TZID=Europe/Berlin:20250927T130000
DTSTAMP:20260421T121351
CREATED:20250913T071725Z
LAST-MODIFIED:20250913T071725Z
UID:13192-1758963600-1758978000@sckaefertal.de
SUMMARY:Helfertag 2025
DESCRIPTION:Wir laden euch herzlich zu unserem diesjährigen Helfertag am Samstag\, den 27. September 2025\, ab 09:00 Uhr auf unserem Sportgelände ein. \n\n\n\nAn diesem Tag möchten wir gemeinsam kleinere Pflege- und Aufräumarbeiten rund um das Gelände durchführen – darunter z. B. das Einsammeln von Laub\, Zurückschneiden von Büschen oder allgemeine Säuberungsarbeiten. Es sind also keine schweren Tätigkeiten geplant\, sodass wirklich alle mithelfen können – ob jung oder alt!
URL:https://sckaefertal.de/event/helfertag-2025/
LOCATION:Sportgelände SC Käfertal\, Obere Riedstraße 90\, Mannheim
END:VEVENT
BEGIN:VEVENT
DTSTART;TZID=Europe/Berlin:20250928T123000
DTEND;TZID=Europe/Berlin:20250928T143000
DTSTAMP:20260421T121351
CREATED:20251009T052716Z
LAST-MODIFIED:20251009T052716Z
UID:13257-1759062600-1759069800@sckaefertal.de
SUMMARY:SC 1910 Käfertal 2 vs SC United Weinheim
DESCRIPTION:Match Link
URL:https://sckaefertal.de/event/sc-1910-kaefertal-2-vs-sc-united-weinheim-2/
LOCATION:SC Käfertal KR (Kunstrasenplatz)\, Obere Riedstr. 88\, Mannheim\, 68309\, Deutschland
END:VEVENT
BEGIN:VEVENT
DTSTART;TZID=Europe/Berlin:20250928T150000
DTEND;TZID=Europe/Berlin:20250928T170000
DTSTAMP:20260421T121351
CREATED:20251009T052524Z
LAST-MODIFIED:20251009T052524Z
UID:13214-1759071600-1759078800@sckaefertal.de
SUMMARY:SC 1910 Käfertal vs SpVgg Wallstadt
DESCRIPTION:Match Link
URL:https://sckaefertal.de/event/sc-1910-kaefertal-vs-spvgg-wallstadt-2/
LOCATION:SC Käfertal KR (Kunstrasenplatz)\, Obere Riedstr. 88\, Mannheim\, 68309\, Deutschland
END:VEVENT
END:VCALENDAR