BEGIN:VCALENDAR
VERSION:2.0
PRODID:-//SC Käfertal - ECPv6.15.20//NONSGML v1.0//EN
CALSCALE:GREGORIAN
METHOD:PUBLISH
X-ORIGINAL-URL:https://sckaefertal.de
X-WR-CALDESC:Veranstaltungen für SC Käfertal
REFRESH-INTERVAL;VALUE=DURATION:PT1H
X-Robots-Tag:noindex
X-PUBLISHED-TTL:PT1H
BEGIN:VTIMEZONE
TZID:Europe/Berlin
BEGIN:DAYLIGHT
TZOFFSETFROM:+0100
TZOFFSETTO:+0200
TZNAME:CEST
DTSTART:20230326T010000
END:DAYLIGHT
BEGIN:STANDARD
TZOFFSETFROM:+0200
TZOFFSETTO:+0100
TZNAME:CET
DTSTART:20231029T010000
END:STANDARD
BEGIN:DAYLIGHT
TZOFFSETFROM:+0100
TZOFFSETTO:+0200
TZNAME:CEST
DTSTART:20240331T010000
END:DAYLIGHT
BEGIN:STANDARD
TZOFFSETFROM:+0200
TZOFFSETTO:+0100
TZNAME:CET
DTSTART:20241027T010000
END:STANDARD
BEGIN:DAYLIGHT
TZOFFSETFROM:+0100
TZOFFSETTO:+0200
TZNAME:CEST
DTSTART:20250330T010000
END:DAYLIGHT
BEGIN:STANDARD
TZOFFSETFROM:+0200
TZOFFSETTO:+0100
TZNAME:CET
DTSTART:20251026T010000
END:STANDARD
END:VTIMEZONE
BEGIN:VEVENT
DTSTART;TZID=Europe/Berlin:20240804T120000
DTEND;TZID=Europe/Berlin:20240804T140000
DTSTAMP:20260419T143139
CREATED:20240815T180929Z
LAST-MODIFIED:20240815T180929Z
UID:12801-1722772800-1722780000@sckaefertal.de
SUMMARY:SC 1910 Käfertal vs FC Sportfreunde 1910 Dossenheim
DESCRIPTION:Match Link
URL:https://sckaefertal.de/event/sc-1910-kaefertal-vs-fc-sportfreunde-1910-dossenheim/
LOCATION:SC Käfertal NR (Rasenplatz)\, Obere Riedstr. 90\, Mannheim\, 68309
END:VEVENT
BEGIN:VEVENT
DTSTART;TZID=Europe/Berlin:20240804T140000
DTEND;TZID=Europe/Berlin:20240804T160000
DTSTAMP:20260419T143139
CREATED:20240815T181242Z
LAST-MODIFIED:20240815T181242Z
UID:12835-1722780000-1722787200@sckaefertal.de
SUMMARY:SC 1910 Käfertal 2 vs SC Pfingstberg-Hochstätt
DESCRIPTION:Match Link
URL:https://sckaefertal.de/event/sc-1910-kaefertal-2-vs-sc-pfingstberg-hochstaett/
LOCATION:SC Käfertal KR (Kunstrasenplatz)\, Obere Riedstr. 88\, Mannheim\, 68309\, Deutschland
END:VEVENT
BEGIN:VEVENT
DTSTART;TZID=Europe/Berlin:20240811T140000
DTEND;TZID=Europe/Berlin:20240811T160000
DTSTAMP:20260419T143139
CREATED:20240815T180929Z
LAST-MODIFIED:20240815T180929Z
UID:12803-1723384800-1723392000@sckaefertal.de
SUMMARY:VfL Hockenheim vs SC 1910 Käfertal
DESCRIPTION:Match Link
URL:https://sckaefertal.de/event/vfl-hockenheim-vs-sc-1910-kaefertal/
LOCATION:VfL Hockenheim NR (Rasenplatz)\, Waldstr. 5\, Hockenheim\, 68766\, Deutschland
END:VEVENT
BEGIN:VEVENT
DTSTART;TZID=Europe/Berlin:20240811T140000
DTEND;TZID=Europe/Berlin:20240811T160000
DTSTAMP:20260419T143139
CREATED:20240815T181240Z
LAST-MODIFIED:20240815T181240Z
UID:12830-1723384800-1723392000@sckaefertal.de
SUMMARY:Freilos (PH) vs SC 1910 Käfertal 2
DESCRIPTION:Match Link
URL:https://sckaefertal.de/event/freilos-ph-vs-sc-1910-kaefertal-2/
END:VEVENT
BEGIN:VEVENT
DTSTART;TZID=Europe/Berlin:20240818T140000
DTEND;TZID=Europe/Berlin:20240818T160000
DTSTAMP:20260419T143139
CREATED:20240815T180929Z
LAST-MODIFIED:20240815T180929Z
UID:12805-1723989600-1723996800@sckaefertal.de
SUMMARY:FC Hochstätt Türkspor vs SC 1910 Käfertal
DESCRIPTION:Match Link
URL:https://sckaefertal.de/event/fc-hochstaett-tuerkspor-vs-sc-1910-kaefertal/
LOCATION:Bezirkssportanlage Seckenheim NR (Rasenplatz)\, Waldshuter Str.\, Mannheim\, 68239\, Deutschland
END:VEVENT
BEGIN:VEVENT
DTSTART;TZID=Europe/Berlin:20240818T140000
DTEND;TZID=Europe/Berlin:20240818T160000
DTSTAMP:20260419T143139
CREATED:20240815T181309Z
LAST-MODIFIED:20240821T153558Z
UID:12836-1723989600-1723996800@sckaefertal.de
SUMMARY:SC 1910 Käfertal 2 vs ESC Blau-Weiß Mannheim
DESCRIPTION:Match Link
URL:https://sckaefertal.de/event/sc-1910-kaefertal-2-vs-esc-blau-weiss-mannheim/
LOCATION:SC Käfertal KR (Kunstrasenplatz)\, Obere Riedstr. 88\, Mannheim\, 68309\, Deutschland
END:VEVENT
BEGIN:VEVENT
DTSTART;TZID=Europe/Berlin:20240823T190000
DTEND;TZID=Europe/Berlin:20240823T210000
DTSTAMP:20260419T143139
CREATED:20240725T160648Z
LAST-MODIFIED:20240725T161041Z
UID:12673-1724439600-1724446800@sckaefertal.de
SUMMARY:Friday Night Sommernachtsboule
DESCRIPTION:
URL:https://sckaefertal.de/event/friday-night-sommernachtsboule/
END:VEVENT
BEGIN:VEVENT
DTSTART;TZID=Europe/Berlin:20240825T140000
DTEND;TZID=Europe/Berlin:20240825T160000
DTSTAMP:20260419T143139
CREATED:20240821T153115Z
LAST-MODIFIED:20240821T153115Z
UID:12864-1724594400-1724601600@sckaefertal.de
SUMMARY:SC 1910 Käfertal vs TSG Eintracht Plankstadt
DESCRIPTION:Match Link
URL:https://sckaefertal.de/event/sc-1910-kaefertal-vs-tsg-eintracht-plankstadt/
LOCATION:SC Käfertal KR (Kunstrasenplatz)\, Obere Riedstr. 88\, Mannheim\, 68309\, Deutschland
END:VEVENT
BEGIN:VEVENT
DTSTART;TZID=Europe/Berlin:20240825T173000
DTEND;TZID=Europe/Berlin:20240825T200000
DTSTAMP:20260419T143139
CREATED:20240821T153742Z
LAST-MODIFIED:20240821T153851Z
UID:12870-1724607000-1724616000@sckaefertal.de
SUMMARY:SC 1910 Käfertal 2 vs MFC 08 Lindenhof
DESCRIPTION:
URL:https://sckaefertal.de/event/sc-1910-kaefertal-2-vs-mfc-08-lindenhof/
LOCATION:SC Käfertal KR (Kunstrasenplatz)\, Obere Riedstr. 88\, Mannheim\, 68309\, Deutschland
END:VEVENT
END:VCALENDAR