BEGIN:VCALENDAR
VERSION:2.0
PRODID:-//SC Käfertal - ECPv6.15.20//NONSGML v1.0//EN
CALSCALE:GREGORIAN
METHOD:PUBLISH
X-ORIGINAL-URL:https://sckaefertal.de
X-WR-CALDESC:Veranstaltungen für SC Käfertal
REFRESH-INTERVAL;VALUE=DURATION:PT1H
X-Robots-Tag:noindex
X-PUBLISHED-TTL:PT1H
BEGIN:VTIMEZONE
TZID:Europe/Berlin
BEGIN:DAYLIGHT
TZOFFSETFROM:+0100
TZOFFSETTO:+0200
TZNAME:CEST
DTSTART:20230326T010000
END:DAYLIGHT
BEGIN:STANDARD
TZOFFSETFROM:+0200
TZOFFSETTO:+0100
TZNAME:CET
DTSTART:20231029T010000
END:STANDARD
BEGIN:DAYLIGHT
TZOFFSETFROM:+0100
TZOFFSETTO:+0200
TZNAME:CEST
DTSTART:20240331T010000
END:DAYLIGHT
BEGIN:STANDARD
TZOFFSETFROM:+0200
TZOFFSETTO:+0100
TZNAME:CET
DTSTART:20241027T010000
END:STANDARD
BEGIN:DAYLIGHT
TZOFFSETFROM:+0100
TZOFFSETTO:+0200
TZNAME:CEST
DTSTART:20250330T010000
END:DAYLIGHT
BEGIN:STANDARD
TZOFFSETFROM:+0200
TZOFFSETTO:+0100
TZNAME:CET
DTSTART:20251026T010000
END:STANDARD
END:VTIMEZONE
BEGIN:VEVENT
DTSTART;TZID=Europe/Berlin:20240706T140000
DTEND;TZID=Europe/Berlin:20240706T160000
DTSTAMP:20260421T151904
CREATED:20240815T180928Z
LAST-MODIFIED:20240815T180928Z
UID:12796-1720274400-1720281600@sckaefertal.de
SUMMARY:SC 1910 Käfertal vs SV Waldhof Mannheim
DESCRIPTION:Match Link
URL:https://sckaefertal.de/event/sc-1910-kaefertal-vs-sv-waldhof-mannheim/
LOCATION:SC Käfertal KR (Kunstrasenplatz)\, Obere Riedstr. 88\, Mannheim\, 68309\, Deutschland
END:VEVENT
BEGIN:VEVENT
DTSTART;TZID=Europe/Berlin:20240707T123000
DTEND;TZID=Europe/Berlin:20240707T143000
DTSTAMP:20260421T151904
CREATED:20240815T181241Z
LAST-MODIFIED:20240815T181241Z
UID:12831-1720355400-1720362600@sckaefertal.de
SUMMARY:SC 1910 Käfertal 2 vs FC Badenia St.Ilgen
DESCRIPTION:Match Link
URL:https://sckaefertal.de/event/sc-1910-kaefertal-2-vs-fc-badenia-st-ilgen/
LOCATION:SC Käfertal KR (Kunstrasenplatz)\, Obere Riedstr. 88\, Mannheim\, 68309\, Deutschland
END:VEVENT
BEGIN:VEVENT
DTSTART;TZID=Europe/Berlin:20240713T133000
DTEND;TZID=Europe/Berlin:20240713T200000
DTSTAMP:20260421T151904
CREATED:20240620T111625Z
LAST-MODIFIED:20240707T194746Z
UID:12622-1720877400-1720900800@sckaefertal.de
SUMMARY:AH Turnier 2024
DESCRIPTION:
URL:https://sckaefertal.de/event/ah-turnier-2024/
LOCATION:Sportgelände SC Käfertal\, Obere Riedstraße 90\, Mannheim
END:VEVENT
BEGIN:VEVENT
DTSTART;TZID=Europe/Berlin:20240714T123000
DTEND;TZID=Europe/Berlin:20240714T143000
DTSTAMP:20260421T151904
CREATED:20240815T181241Z
LAST-MODIFIED:20240815T181241Z
UID:12832-1720960200-1720967400@sckaefertal.de
SUMMARY:SC 1910 Käfertal 2 vs FC Speyer 09 II
DESCRIPTION:Match Link
URL:https://sckaefertal.de/event/sc-1910-kaefertal-2-vs-fc-speyer-09-ii/
LOCATION:SC Käfertal KR (Kunstrasenplatz)\, Obere Riedstr. 88\, Mannheim\, 68309\, Deutschland
END:VEVENT
BEGIN:VEVENT
DTSTART;TZID=Europe/Berlin:20240719T190000
DTEND;TZID=Europe/Berlin:20240719T210000
DTSTAMP:20260421T151904
CREATED:20240725T160920Z
LAST-MODIFIED:20240725T161009Z
UID:12681-1721415600-1721422800@sckaefertal.de
SUMMARY:Friday Night Sommernachtsboule
DESCRIPTION:
URL:https://sckaefertal.de/event/friday-night-sommernachtsboule-4/
END:VEVENT
BEGIN:VEVENT
DTSTART;TZID=Europe/Berlin:20240720T090000
DTEND;TZID=Europe/Berlin:20240720T130000
DTSTAMP:20260421T151904
CREATED:20240715T084920Z
LAST-MODIFIED:20240715T084922Z
UID:12655-1721466000-1721480400@sckaefertal.de
SUMMARY:Helfertag 2024
DESCRIPTION:im Namen der Vorstandschaft möchten wir daran erinnern\, dass auf unserem Sportgelände am 20.07.2024\, ab 09 Uhr\, ein Helfertag stattfindet. Es werden lediglich leichte Tätigkeiten durchgeführt\, so dass jung und alt mitmachen können. Für Getränke aller Art wird durch den Verein gesorgt. Wie immer findet im Anschluss ab ca. 12:30 Uhr ein kleiner Imbiss im Clubhaus statt.
URL:https://sckaefertal.de/event/helfertag-2024/
LOCATION:Sportgelände SC Käfertal\, Obere Riedstraße 90\, Mannheim
END:VEVENT
BEGIN:VEVENT
DTSTART;TZID=Europe/Berlin:20240721T123000
DTEND;TZID=Europe/Berlin:20240721T143000
DTSTAMP:20260421T151904
CREATED:20240815T181241Z
LAST-MODIFIED:20240815T181241Z
UID:12833-1721565000-1721572200@sckaefertal.de
SUMMARY:SC 1910 Käfertal 2 vs SG Hüttenfeld
DESCRIPTION:Match Link
URL:https://sckaefertal.de/event/sc-1910-kaefertal-2-vs-sg-huettenfeld/
LOCATION:SC Käfertal KR (Kunstrasenplatz)\, Obere Riedstr. 88\, Mannheim\, 68309\, Deutschland
END:VEVENT
BEGIN:VEVENT
DTSTART;TZID=Europe/Berlin:20240721T150000
DTEND;TZID=Europe/Berlin:20240721T170000
DTSTAMP:20260421T151904
CREATED:20240815T180928Z
LAST-MODIFIED:20240815T180928Z
UID:12797-1721574000-1721581200@sckaefertal.de
SUMMARY:SC 1910 Käfertal vs SC Blumenau
DESCRIPTION:Match Link
URL:https://sckaefertal.de/event/sc-1910-kaefertal-vs-sc-blumenau/
LOCATION:SC Käfertal KR (Kunstrasenplatz)\, Obere Riedstr. 88\, Mannheim\, 68309\, Deutschland
END:VEVENT
BEGIN:VEVENT
DTSTART;TZID=Europe/Berlin:20240728T123000
DTEND;TZID=Europe/Berlin:20240728T143000
DTSTAMP:20260421T151904
CREATED:20240815T181241Z
LAST-MODIFIED:20240815T181241Z
UID:12834-1722169800-1722177000@sckaefertal.de
SUMMARY:SC 1910 Käfertal 2 vs SV Rohrhof
DESCRIPTION:Match Link
URL:https://sckaefertal.de/event/sc-1910-kaefertal-2-vs-sv-rohrhof/
LOCATION:SC Käfertal KR (Kunstrasenplatz)\, Obere Riedstr. 88\, Mannheim\, 68309\, Deutschland
END:VEVENT
BEGIN:VEVENT
DTSTART;TZID=Europe/Berlin:20240728T140000
DTEND;TZID=Europe/Berlin:20240728T160000
DTSTAMP:20260421T151904
CREATED:20240815T180929Z
LAST-MODIFIED:20240815T180929Z
UID:12799-1722175200-1722182400@sckaefertal.de
SUMMARY:SC 1910 Käfertal vs TSG Rheinau
DESCRIPTION:Match Link
URL:https://sckaefertal.de/event/sc-1910-kaefertal-vs-tsg-rheinau/
LOCATION:SC Käfertal NR (Rasenplatz)\, Obere Riedstr. 90\, Mannheim\, 68309
END:VEVENT
END:VCALENDAR