BEGIN:VCALENDAR
VERSION:2.0
PRODID:-//SC Käfertal - ECPv6.15.20//NONSGML v1.0//EN
CALSCALE:GREGORIAN
METHOD:PUBLISH
X-ORIGINAL-URL:https://sckaefertal.de
X-WR-CALDESC:Veranstaltungen für SC Käfertal
REFRESH-INTERVAL;VALUE=DURATION:PT1H
X-Robots-Tag:noindex
X-PUBLISHED-TTL:PT1H
BEGIN:VTIMEZONE
TZID:Europe/Berlin
BEGIN:DAYLIGHT
TZOFFSETFROM:+0100
TZOFFSETTO:+0200
TZNAME:CEST
DTSTART:20240331T010000
END:DAYLIGHT
BEGIN:STANDARD
TZOFFSETFROM:+0200
TZOFFSETTO:+0100
TZNAME:CET
DTSTART:20241027T010000
END:STANDARD
BEGIN:DAYLIGHT
TZOFFSETFROM:+0100
TZOFFSETTO:+0200
TZNAME:CEST
DTSTART:20250330T010000
END:DAYLIGHT
BEGIN:STANDARD
TZOFFSETFROM:+0200
TZOFFSETTO:+0100
TZNAME:CET
DTSTART:20251026T010000
END:STANDARD
BEGIN:DAYLIGHT
TZOFFSETFROM:+0100
TZOFFSETTO:+0200
TZNAME:CEST
DTSTART:20260329T010000
END:DAYLIGHT
BEGIN:STANDARD
TZOFFSETFROM:+0200
TZOFFSETTO:+0100
TZNAME:CET
DTSTART:20261025T010000
END:STANDARD
END:VTIMEZONE
BEGIN:VEVENT
DTSTART;TZID=Europe/Berlin:20250921T150000
DTEND;TZID=Europe/Berlin:20250921T170000
DTSTAMP:20260423T115322
CREATED:20251009T052523Z
LAST-MODIFIED:20251009T052523Z
UID:13212-1758466800-1758474000@sckaefertal.de
SUMMARY:FV Fortuna Heddesheim 2 vs SC 1910 Käfertal
DESCRIPTION:Match Link
URL:https://sckaefertal.de/event/fv-fortuna-heddesheim-2-vs-sc-1910-kaefertal/
LOCATION:Fortuna Heddesheim KR (Kunstrasenplatz)\, Ahornstr. 78\, Heddesheim\, 68542\, Deutschland
END:VEVENT
BEGIN:VEVENT
DTSTART;TZID=Europe/Berlin:20250921T160000
DTEND;TZID=Europe/Berlin:20250921T180000
DTSTAMP:20260423T115322
CREATED:20251009T052715Z
LAST-MODIFIED:20251009T052715Z
UID:13256-1758470400-1758477600@sckaefertal.de
SUMMARY:Mannheimer Fußball Club Phönix vs SC 1910 Käfertal 2
DESCRIPTION:Match Link
URL:https://sckaefertal.de/event/mannheimer-fussball-club-phoenix-vs-sc-1910-kaefertal-2-2/
LOCATION:Phönix Mannheim NR (Rasenplatz)\, Zum Herrenried 10\, Mannheim\, 68169\, Deutschland
END:VEVENT
END:VCALENDAR