BEGIN:VCALENDAR
VERSION:2.0
PRODID:-//SC Käfertal - ECPv6.15.20//NONSGML v1.0//EN
CALSCALE:GREGORIAN
METHOD:PUBLISH
X-WR-CALNAME:SC Käfertal
X-ORIGINAL-URL:https://sckaefertal.de
X-WR-CALDESC:Veranstaltungen für SC Käfertal
REFRESH-INTERVAL;VALUE=DURATION:PT1H
X-Robots-Tag:noindex
X-PUBLISHED-TTL:PT1H
BEGIN:VTIMEZONE
TZID:Europe/Berlin
BEGIN:DAYLIGHT
TZOFFSETFROM:+0100
TZOFFSETTO:+0200
TZNAME:CEST
DTSTART:20220327T010000
END:DAYLIGHT
BEGIN:STANDARD
TZOFFSETFROM:+0200
TZOFFSETTO:+0100
TZNAME:CET
DTSTART:20221030T010000
END:STANDARD
BEGIN:DAYLIGHT
TZOFFSETFROM:+0100
TZOFFSETTO:+0200
TZNAME:CEST
DTSTART:20230326T010000
END:DAYLIGHT
BEGIN:STANDARD
TZOFFSETFROM:+0200
TZOFFSETTO:+0100
TZNAME:CET
DTSTART:20231029T010000
END:STANDARD
BEGIN:DAYLIGHT
TZOFFSETFROM:+0100
TZOFFSETTO:+0200
TZNAME:CEST
DTSTART:20240331T010000
END:DAYLIGHT
BEGIN:STANDARD
TZOFFSETFROM:+0200
TZOFFSETTO:+0100
TZNAME:CET
DTSTART:20241027T010000
END:STANDARD
END:VTIMEZONE
BEGIN:VEVENT
DTSTART;TZID=Europe/Berlin:20231130T190000
DTEND;TZID=Europe/Berlin:20231130T203000
DTSTAMP:20260423T150533
CREATED:20231110T163005Z
LAST-MODIFIED:20231110T163005Z
UID:2168-1701370800-1701376200@sckaefertal.de
SUMMARY:Fussball - Training 1. Mannschaft
DESCRIPTION:
URL:https://sckaefertal.de/event/fussball-training-1-mannschaft-41/
LOCATION:Rasenplatz SC Käfertal\, Obere Riedstraße 88\, Mannheim\, 68309\, Deutschland
CATEGORIES:Training
END:VEVENT
BEGIN:VEVENT
DTSTART;TZID=Europe/Berlin:20231130T190000
DTEND;TZID=Europe/Berlin:20231130T203000
DTSTAMP:20260423T150533
CREATED:20231110T163250Z
LAST-MODIFIED:20231110T163250Z
UID:2191-1701370800-1701376200@sckaefertal.de
SUMMARY:Fussball - Training 2. Mannschaft
DESCRIPTION:
URL:https://sckaefertal.de/event/fussball-training-2-mannschaft-40/
LOCATION:Kunstrasenplatz SC Käfertal\, Obere Riedstraße 88\, Mannheim\, 68309\, Deutschland
CATEGORIES:Training
END:VEVENT
END:VCALENDAR